Workbook

Sheet Partner Universities
A1: VISTULA UNIVERSITY – ERASMUS+ PARTNER UNIVERSITIES
A2: Country | B2: Name of University | C2: Erasmus Code | D2: City | E2: Study Programs | F2: Website | G2: Level
A3: Austria | B3: VORARLBERG UNIVERSITY OF APPLIED SCIENCES | C3: A DORNBIR01 | D3: DORNBIRN | E3: Management, Economics | F3: www.fhv.at | G3: BA
A4: Belgium | B4: HOWEST UNIVERSITY OF APPLIED SCIENCES | C4: B KORTRIJ03 | D4: KORTRIJK | E4: Management, Computer Engineering, Journalism and Social Communication | F4: www.howest.be | G4: BA
A5: Belgium | B5: ACADEMIE DES BEAUX-ARTS DE LA VILLE DE TOURNAI | C5: B TOURNAI01 | D5: TOURNAI | E5: Graphic Design | F5: www.actournai.be | G5: BA, MA
A6: Belgium | B6: BRUSSELS SCHOOL - IHECS | C6: B BRUXEL84 | D6: BRUSSELS | E6: Journalism and Social Communication | F6: www.ihecs.be | G6: BA
A7: Bulgaria | B7: AMERICAN UNIVERSITY IN BULGARIA | C7: BG BLAGEOV03 | D7: BLAGOEVGRAD | E7: Management, Computer Engineering, Economics, International Relations, Journalism and Social Communication | F7: www.aubg.edu | G7: BA
A8: Croatia | B8: UNIVERSITY OF ZADAR | C8: HR ZADAR01 | D8: ZADAR | E8: Management | F8: www.unizd.hr | G8: BA, MA
A9: Cyprus | B9: CYPRUS INTERNATIONAL INSTITUTE OF MANAGEMENT | C9: CY NICOSIA12 | D9: NICOSIA/LIMASSOL | E9: Management, Finance and Accounting | F9: www.ciim.ac.cy | G9: MA
A10: Cyprus | B10: UNIVERSITY OF CENTRAL LANCASHIRE (UCLan) CYPRUS | C10: CY LARNACA02 | D10: LARNACA | E10: Management, Finance and Accounting, Economics, English Studies | F10: www.uclancyprus.ac.cy | G10: BA, MA
A11: Cyprus | B11: COLLEGE OF TOURISM AND HOTEL MANAGEMENT | C11: CY NICOSIA10 | D11: NICOSIA | E11: Management | F11: www.cothm.ac.cy | G11: BA, MA
A12: Cyprus | B12: GLOBAL COLLEGE | C12: CY NICOSIA41 | D12: NICOSIA | E12: Management | F12: www.globalcollege.ac.cy | G12: BA, MA
A13: Czechia | B13: BUSINESS ACADEMY AND HIGHER PROFESSIONAL SCHOOL | C13: CZ VALASSK01 | D13: VALASSKE MEZIRICI | E13: Management, Computer Engineering | F13: www.oavm.cz | G13: BA
... A78: Spain | B78: COMPLUTENSE UNIVERSITY OF MADRID | C78: E MADRID03 | D78: MADRID | E78: Computer Engineering | F78: www.ucm.es | G78: BA, MA

Sheet Summary by Country
A1: Partner Universities by Country
A2: Country | B2: Number of Partner Institutions
A3: Austria | B3: =COUNTIF('Partner Universities'!$A$3:$A$77, A3) -> 1
A4: Belgium | B4: =COUNTIF('Partner Universities'!$A$3:$A$77, A4) -> 3
A5: Bulgaria | B5: =COUNTIF('Partner Universities'!$A$3:$A$77, A5) -> 1
A6: Croatia | B6: =COUNTIF('Partner Universities'!$A$3:$A$77, A6) -> 1
A7: Cyprus | B7: =COUNTIF('Partner Universities'!$A$3:$A$77, A7) -> 4
A8: Czechia | B8: =COUNTIF('Partner Universities'!$A$3:$A$77, A8) -> 2
A9: Estonia | B9: =COUNTIF('Partner Universities'!$A$3:$A$77, A9) -> 1
A10: Finland | B10: =COUNTIF('Partner Universities'!$A$3:$A$77, A10) -> 1
A11: France | B11: =COUNTIF('Partner Universities'!$A$3:$A$77, A11) -> 4
A12: Germany | B12: =COUNTIF('Partner Universities'!$A$3:$A$77, A12) -> 6
A13: Greece | B13: =COUNTIF('Partner Universities'!$A$3:$A$77, A13) -> 3
A14: Hungary | B14: =COUNTIF('Partner Universities'!$A$3:$A$77, A14) -> 1
... A23: Spain | B23: =COUNTIF('Partner Universities'!$A$3:$A$77, A23) -> 16
A24: TOTAL | B24: =SUM(B3:B23) -> 75
